BEGIN:VCALENDAR
VERSION:2.0
PRODID:-//Cantley, Limpenhoe and Southwood Parish Council//Meeting Calendar//EN
CALSCALE:GREGORIAN
METHOD:PUBLISH
BEGIN:VEVENT
UID:70801-20240328@cantleylimpenhoesouthwood-pc.gov.uk
DTSTAMP:20260419T095128Z
DTSTART;VALUE=DATE:20240328
DTEND;VALUE=DATE:20240329
SUMMARY:Annual Parish Meeting 28 March 2024
DESCRIPTION:Annual Parish Meeting\nView details: https://cantleylimpenhoesouthwood-pc.gov.uk/meetings/annual-parish-meeting-28-march-2024/
URL:https://cantleylimpenhoesouthwood-pc.gov.uk/meetings/annual-parish-meeting-28-march-2024/
END:VEVENT
END:VCALENDAR
