BEGIN:VCALENDAR
VERSION:2.0
PRODID:-//Cantley, Limpenhoe and Southwood Parish Council//Meeting Calendar//EN
CALSCALE:GREGORIAN
METHOD:PUBLISH
BEGIN:VEVENT
UID:71020-20260219@cantleylimpenhoesouthwood-pc.gov.uk
DTSTAMP:20260421T114522Z
DTSTART;VALUE=DATE:20260219
DTEND;VALUE=DATE:20260220
SUMMARY:Full Parish Council Meeting 19th February 2026
DESCRIPTION:Full Council Meeting\nView details: https://cantleylimpenhoesouthwood-pc.gov.uk/meetings/full-parish-council-meeting-19th-february-2026/
URL:https://cantleylimpenhoesouthwood-pc.gov.uk/meetings/full-parish-council-meeting-19th-february-2026/
END:VEVENT
END:VCALENDAR
