BEGIN:VCALENDAR
VERSION:2.0
PRODID:-//Cantley, Limpenhoe and Southwood Parish Council//Meeting Calendar//EN
CALSCALE:GREGORIAN
METHOD:PUBLISH
BEGIN:VEVENT
UID:71021-20260319@cantleylimpenhoesouthwood-pc.gov.uk
DTSTAMP:20260421T115412Z
DTSTART;VALUE=DATE:20260319
DTEND;VALUE=DATE:20260320
SUMMARY:Full Parish Council Meeting 19 March 2026
DESCRIPTION:Full Council Meeting\nView details: https://cantleylimpenhoesouthwood-pc.gov.uk/meetings/full-parish-council-meeting-19-march-2026/
URL:https://cantleylimpenhoesouthwood-pc.gov.uk/meetings/full-parish-council-meeting-19-march-2026/
END:VEVENT
END:VCALENDAR
