BEGIN:VCALENDAR
VERSION:2.0
PRODID:-//Cantley, Limpenhoe and Southwood Parish Council//Meeting Calendar//EN
CALSCALE:GREGORIAN
METHOD:PUBLISH
BEGIN:VEVENT
UID:71022-20260416@cantleylimpenhoesouthwood-pc.gov.uk
DTSTAMP:20260421T114920Z
DTSTART;VALUE=DATE:20260416
DTEND;VALUE=DATE:20260417
SUMMARY:Full Parish Council Meeting 16 April 2026
DESCRIPTION:Full Council Meeting\nView details: https://cantleylimpenhoesouthwood-pc.gov.uk/meetings/full-parish-council-meeting-16-april-2026/
URL:https://cantleylimpenhoesouthwood-pc.gov.uk/meetings/full-parish-council-meeting-16-april-2026/
END:VEVENT
END:VCALENDAR
