BEGIN:VCALENDAR
VERSION:2.0
PRODID:-//Cantley, Limpenhoe and Southwood Parish Council//Meeting Calendar//EN
CALSCALE:GREGORIAN
METHOD:PUBLISH
BEGIN:VEVENT
UID:71023-20260409@cantleylimpenhoesouthwood-pc.gov.uk
DTSTAMP:20260421T115100Z
DTSTART;VALUE=DATE:20260409
DTEND;VALUE=DATE:20260410
SUMMARY:Annual Parish Meeting 09 April 2026
DESCRIPTION:Annual Parish Meeting\nView details: https://cantleylimpenhoesouthwood-pc.gov.uk/meetings/annual-parish-meeting-26-march-2026/
URL:https://cantleylimpenhoesouthwood-pc.gov.uk/meetings/annual-parish-meeting-26-march-2026/
END:VEVENT
END:VCALENDAR
