BEGIN:VCALENDAR
VERSION:2.0
PRODID:-//Cantley, Limpenhoe and Southwood Parish Council//Meeting Calendar//EN
CALSCALE:GREGORIAN
METHOD:PUBLISH
BEGIN:VEVENT
UID:71028-20261015@cantleylimpenhoesouthwood-pc.gov.uk
DTSTAMP:20260421T151558Z
DTSTART;VALUE=DATE:20261015
DTEND;VALUE=DATE:20261016
SUMMARY:Full Parish Council Meeting 15 October 2026
DESCRIPTION:Full Council Meeting\nView details: https://cantleylimpenhoesouthwood-pc.gov.uk/meetings/full-parish-council-meeting-15-october-2026/
URL:https://cantleylimpenhoesouthwood-pc.gov.uk/meetings/full-parish-council-meeting-15-october-2026/
END:VEVENT
END:VCALENDAR
